BEGIN:VCALENDAR
VERSION:2.0
PRODID:-//Tukios.com/
BEGIN:VEVENT
UID:7c3297c4-1d1e-4822-8fc4-32238c0498dc@www.jeffcoatfuneralhome.com
DTSTAMP:20260424T001423Z
DTSTART:20260427T190000Z
DTEND:20260427T200000Z
SUMMARY:Burial
DESCRIPTION:
URL:https://www.jeffcoatfuneralhome.com/obituaries/barbara-garnett
LOCATION: 960 North Ann Avenue  Tallassee AL 36078
GEO:32.5482453;-85.8947954
END:VEVENT
END:VCALENDAR