BEGIN:VCALENDAR
VERSION:2.0
PRODID:-//Tukios.com/
BEGIN:VEVENT
UID:dddd2291-336a-4aad-b1ae-2a3ba863031d@www.jeffcoatfuneralhome.com
DTSTAMP:20260424T001647Z
DTSTART:20260427T180000Z
DTEND:20260427T190000Z
SUMMARY:Funeral Service
DESCRIPTION:
URL:https://www.jeffcoatfuneralhome.com/obituaries/barbara-garnett
LOCATION: 1419 Gilmer Avenue  Tallassee AL 36078
GEO:32.5525013;-85.9228134
END:VEVENT
END:VCALENDAR