BEGIN:VCALENDAR
VERSION:2.0
PRODID:-//Tukios.com/
BEGIN:VEVENT
UID:2dbcc203-f3a7-47f0-94b4-501cbdb10392@www.jeffcoatfuneralhome.com
DTSTAMP:20260424T001134Z
DTSTART:20260427T163000Z
DTEND:20260427T180000Z
SUMMARY:Visitation
DESCRIPTION:
URL:https://www.jeffcoatfuneralhome.com/obituaries/barbara-garnett
LOCATION: 1419 Gilmer Avenue  Tallassee AL 36078
GEO:32.5525013;-85.9228134
END:VEVENT
END:VCALENDAR